BEGIN:VCALENDAR
VERSION:2.0
PRODID:icalendar-ruby
CALSCALE:GREGORIAN
METHOD:PUBLISH
BEGIN:VEVENT
DTSTAMP:20260421T090422Z
UID:686f2511-8c92-44bc-b63c-b64d84b2cb98
DTSTART:20240629T120000
DTEND:20240629T220000
DESCRIPTION:<p>KUNYE\, brings together artists and fans as a music family\,
  combined in our celebration of what is innately ours\, proudly South Afri
 can and supportive of each other. Together As One.</p><p>KUNYE is raising 
 global recognition for the rich South African musical heritage\, with a fo
 cus on the development of our talented African producers.</p>
LOCATION:Pretoria National Botanical Gardens
SUMMARY:KUNYE | PRETORIA III
URL;VALUE=URI:https://kunye.howler.co.za/KunyePTA3
END:VEVENT
END:VCALENDAR
