BEGIN:VCALENDAR
VERSION:2.0
PRODID:icalendar-ruby
CALSCALE:GREGORIAN
METHOD:PUBLISH
BEGIN:VEVENT
DTSTAMP:20260423T141000Z
UID:c16a3181-3dd5-4a85-9c53-f8caa97d954e
DTSTART:20250427T120000
DTEND:20250427T235900
DESCRIPTION:<p>KUNYE\, brings together artists and fans as a music family\,
  combined in our celebration of what is innately ours\, proudly South Afri
 can and supportive of each other. Together As One.</p><p>KUNYE is raising 
 global recognition for the rich South African musical heritage\, with a fo
 cus on the development of our talented African producers.</p>
LOCATION:73 Jacko Jackson Drive\, Durban\, KwaZulu-Natal
SUMMARY:KUNYE | KZN IV
URL;VALUE=URI:https://kunye.howler.co.za/KunyeKZN4
END:VEVENT
END:VCALENDAR
